BEGIN:VCALENDAR
VERSION:2.0
PRODID:-//Stem Ciders - ECPv6.15.20//NONSGML v1.0//EN
CALSCALE:GREGORIAN
METHOD:PUBLISH
X-WR-CALNAME:Stem Ciders
X-ORIGINAL-URL:https://stemciders.com
X-WR-CALDESC:Events for Stem Ciders
REFRESH-INTERVAL;VALUE=DURATION:PT1H
X-Robots-Tag:noindex
X-PUBLISHED-TTL:PT1H
BEGIN:VTIMEZONE
TZID:America/Denver
BEGIN:DAYLIGHT
TZOFFSETFROM:-0700
TZOFFSETTO:-0600
TZNAME:MDT
DTSTART:20250309T090000
END:DAYLIGHT
BEGIN:STANDARD
TZOFFSETFROM:-0600
TZOFFSETTO:-0700
TZNAME:MST
DTSTART:20251102T080000
END:STANDARD
BEGIN:DAYLIGHT
TZOFFSETFROM:-0700
TZOFFSETTO:-0600
TZNAME:MDT
DTSTART:20260308T090000
END:DAYLIGHT
BEGIN:STANDARD
TZOFFSETFROM:-0600
TZOFFSETTO:-0700
TZNAME:MST
DTSTART:20261101T080000
END:STANDARD
BEGIN:DAYLIGHT
TZOFFSETFROM:-0700
TZOFFSETTO:-0600
TZNAME:MDT
DTSTART:20270314T090000
END:DAYLIGHT
BEGIN:STANDARD
TZOFFSETFROM:-0600
TZOFFSETTO:-0700
TZNAME:MST
DTSTART:20271107T080000
END:STANDARD
END:VTIMEZONE
BEGIN:VEVENT
DTSTART;TZID=America/Denver:20260323T161500
DTEND;TZID=America/Denver:20260323T180000
DTSTAMP:20260420T035357
CREATED:20260317T185333Z
LAST-MODIFIED:20260317T185333Z
UID:10004889-1774282500-1774288800@stemciders.com
SUMMARY:March Cider Tour + Keep Your Glass - Acreage
DESCRIPTION:Step into the world of craft cider with our KEEP YOUR GLASS CIDER TOUR! \nYou’ll get a behind-the-scenes guided tour of our cider-making process\, sip cider directly from the barrel\, then finish with soft pretzels & a cider sample flight. \nPlus\, you’ll take home our monthly custom glass! Don’t miss the chance to sip\, savor\, and celebrate the magic of cider! \n  \nSECURE YOUR SPOT
URL:https://stemciders.com/event/march-ktg-acreage/
LOCATION:Acreage by Stem Ciders\, 1380 Horizon Ave\, Lafayette\, CO\, 80026\, United States
CATEGORIES:Keep the Glass
ATTACH;FMTTYPE=image/jpeg:https://stemciders.com/wp-content/uploads/2023/03/IMG_7345.jpg
ORGANIZER;CN="Stem Ciders":MAILTO:info@stemciders.com
GEO:39.9814779;-105.0639154
X-APPLE-STRUCTURED-LOCATION;VALUE=URI;X-ADDRESS=Acreage by Stem Ciders 1380 Horizon Ave Lafayette CO 80026 United States;X-APPLE-RADIUS=500;X-TITLE=1380 Horizon Ave:geo:-105.0639154,39.9814779
END:VEVENT
END:VCALENDAR